BEGIN:VCALENDAR
VERSION:2.0
PRODID:-//wp-events-plugin.com//7.2.3.1//EN
TZID:America/Chicago
X-WR-TIMEZONE:America/Chicago
BEGIN:VEVENT
UID:1@nashvillebahai.org
DTSTART;TZID=America/Chicago:20180328T190000
DTEND;TZID=America/Chicago:20180328T210000
DTSTAMP:20180328T183955Z
URL:https://nashvillebahai.org/events/youth-night-counselor/
SUMMARY:Youth Night with Counselor
DESCRIPTION:
CATEGORIES:Special Meeting
END:VEVENT
BEGIN:VEVENT
UID:2@nashvillebahai.org
DTSTART;TZID=America/Chicago:20180401T110000
DTEND;TZID=America/Chicago:20180401T120000
DTSTAMP:20180328T184054Z
URL:https://nashvillebahai.org/events/sunday-morning-devotional/
SUMMARY:Sunday Morning Devotional
DESCRIPTION:
LOCATION:Nashville Baha'i Center\, 1556 Bell Rd\, Nashville\, TN\, 37211\, 
 Middle TN\, United States
GEO:36.0436071;-86.69491520000003
X-APPLE-STRUCTURED-LOCATION;VALUE=URI;X-ADDRESS=1556 Bell Rd\, Nashville\, 
 TN\, 37211\, Middle TN\, United States;X-APPLE-RADIUS=100;X-TITLE=Nashvill
 e Baha'i Center:geo:36.0436071,-86.69491520000003
END:VEVENT
BEGIN:VTIMEZONE
TZID:America/Chicago
X-LIC-LOCATION:America/Chicago
BEGIN:DAYLIGHT
DTSTART:20180311T030000
TZOFFSETFROM:-0600
TZOFFSETTO:-0500
TZNAME:CDT
END:DAYLIGHT
END:VTIMEZONE
END:VCALENDAR